BEGIN:VCALENDAR
VERSION:2.0
PRODID:-//BAVC Media - ECPv6.15.20//NONSGML v1.0//EN
CALSCALE:GREGORIAN
METHOD:PUBLISH
X-WR-CALNAME:BAVC Media
X-ORIGINAL-URL:https://bavc.org
X-WR-CALDESC:Events for BAVC Media
REFRESH-INTERVAL;VALUE=DURATION:PT1H
X-Robots-Tag:noindex
X-PUBLISHED-TTL:PT1H
BEGIN:VTIMEZONE
TZID:UTC
BEGIN:STANDARD
TZOFFSETFROM:+0000
TZOFFSETTO:+0000
TZNAME:UTC
DTSTART:20200101T000000
END:STANDARD
END:VTIMEZONE
BEGIN:VEVENT
DTSTART;TZID=UTC:20210605T190000
DTEND;TZID=UTC:20210605T210000
DTSTAMP:20260420T132558
CREATED:20210803T060700Z
LAST-MODIFIED:20210803T060700Z
UID:10000029-1622919600-1622926800@bavc.org
SUMMARY:Building the American Dream
DESCRIPTION:An intimate screening and discussion in the East Bay\n\n\n\n\n\nAbout this event\n\n\nFor those who cannot attend the San Francisco premiere at SF DocFest\, BAVC Media is hosting a second screening in Oakland in partnership with local advocacy groups in hopes that more people can have an early chance to see this timely and powerful film. \nCo-presented by StudioToBe and UC Berkeley’s Investigative Reporting Program along with local education and advocacy groups to be announced. \nDoors open at 7 for a reception and discussion before the film. \nAcross Texas\, an unstoppable construction boom drives urban sprawl and luxury high-rises. Its dirty secret: abuse of immigrant labor. BUILDING THE AMERICAN DREAM captures a turning point as a movement forms to fight widespread construction industry injustices. Grieving their son\, a Mexican family campaigns for a life-and-death safety ordinance. A Salvadorian electrician couple owed thousands in back pay fights for their children’s future. A bereaved son battles to protect others from his family’s preventable tragedy. A story of courage\, resilience and community\, the film reveals shocking truths about the hardworking immigrants who build the American Dream\, from which they are excluded. \n“An eye-opener about the abuse of workers whose immigration status makes them victims.” – The Hollywood Reporter \n“Chelsea Hernandez tugs at our heartstrings and puts fuel to a fire of righteous anger.” –FilmThreat
URL:https://bavc.org/event/building-the-american-dream/
LOCATION:CA
ATTACH;FMTTYPE=image/jpeg:https://bavc.org/wp-content/uploads/2021/08/https___cdn.evbuc_.com_images_62748466_309036471778_1_original.jpeg
END:VEVENT
END:VCALENDAR